BEGIN:VCALENDAR
PRODID:-//eluceo/ical//2.0/EN
VERSION:2.0
CALSCALE:GREGORIAN
BEGIN:VEVENT
UID:6dffa48d09c4b3ca4455bfc68e88bde9
DTSTAMP:20260422T104207Z
SUMMARY:Ordinarie Lunchmöte\, Kyrkornas Världsråd
DESCRIPTION:Talare: Emma Gunnarsson\, pastor vid Betlehemskyrkan i Gävle\,
  berättar om Kyrkornas Världsråd och dess Generalförsamling\, där Emm
 a är ledamot.Emma Gunnarsson invald i Kyrkornas världsråds centralkommi
 té - Equmeniakyrkan
URL:https://gavle.rotary2335.se/sv/agenda/show/217428
DTSTART;TZID=Europe/Zurich:20260508T120000
DTEND;TZID=Europe/Zurich:20260508T130000
LOCATION:Gefle Teaterrestaurang\, S. Centralgatan 10\, Ingång via Joe Hill
 splatsen\, 802 50 Gävle\, Sverige
CATEGORIES:Rotary
END:VEVENT
BEGIN:VTIMEZONE
TZID:Europe/Zurich
BEGIN:DAYLIGHT
DTSTART:20260508T120000
TZNAME:CEST
TZOFFSETTO:+0200
TZOFFSETFROM:+0200
END:DAYLIGHT
END:VTIMEZONE
END:VCALENDAR
